BEGIN:VCALENDAR
VERSION:2.0
PRODID:-//Tukios.com/
BEGIN:VEVENT
UID:e88ef096-cbc2-4736-940f-5b3ce3021a95@www.chamberlainmccolleys.com
DTSTAMP:20260422T075429Z
DTSTART:20260516T170000Z
DTEND:20260516T180000Z
SUMMARY:Memorial Service
DESCRIPTION:
URL:https://www.chamberlainmccolleys.com/obituaries/melissa-rucktaeschel
LOCATION:Spirit of Grace 127 South 2nd Street  River Falls WI 54022
GEO:44.8574752;-92.6253668
END:VEVENT
END:VCALENDAR