BEGIN:VCALENDAR
VERSION:2.0
PRODID:-//Tukios.com/
BEGIN:VEVENT
UID:d482569e-7309-473c-8205-1c4268d7f80e@www.chamberlainmccolleys.com
DTSTAMP:20260420T082919Z
DTSTART:20260429T193000Z
DTEND:20260429T203000Z
SUMMARY:Burial
DESCRIPTION:
URL:https://www.chamberlainmccolleys.com/obituaries/patrick-obrien
LOCATION:Black Hills National Cemetery 20901 Pleasant Valley Dr  Sturgis 
	SD 57785
GEO:44.3702688;-103.4745563
END:VEVENT
END:VCALENDAR