BEGIN:VCALENDAR
VERSION:2.0
PRODID:-//Tukios.com/
BEGIN:VEVENT
UID:953209ba-8291-4082-b03e-e60a303ec292@www.chamberlainmccolleys.com
DTSTAMP:20260421T025108Z
DTSTART:20260425T200000Z
DTEND:20260425T220000Z
SUMMARY:Visitation
DESCRIPTION:
URL:https://www.chamberlainmccolleys.com/obituaries/steven-deboer
LOCATION:Seven Sisters Living Center 1201 Hwy 71 S  Hot Springs SD 57747
GEO:43.4172935;-103.4799902
END:VEVENT
END:VCALENDAR